BEGIN:VCALENDAR
VERSION:2.0
PRODID:-//hacksw/handcal//NONSGML v1.0//EN
BEGIN:VEVENT
SUMMARY:PLATEAUX U9 2025-2026
UID:2da13a8f-d4f1-447e-93c1-30b2c3be534b
DTSTART:20260314T083000Z
DTEND:20260314T110000Z
LOCATION:Localisation GYMNASE GUIGOU 84400 APT
CATEGORIES:Sportif
STATUS:
URL;VALUE=URI:https://www.cadenetluberonhandball.com/evenements/2026/03/14/plateaux-u9-2025-2026-2423205
END:VEVENT
END:VCALENDAR
